BEGIN:VCALENDAR
VERSION:2.0
PRODID:-//Dental Guilds - ECPv6.15.20//NONSGML v1.0//EN
CALSCALE:GREGORIAN
METHOD:PUBLISH
X-ORIGINAL-URL:https://dental-guilds.de
X-WR-CALDESC:Veranstaltungen für Dental Guilds
REFRESH-INTERVAL;VALUE=DURATION:PT1H
X-Robots-Tag:noindex
X-PUBLISHED-TTL:PT1H
BEGIN:VTIMEZONE
TZID:Europe/Berlin
BEGIN:DAYLIGHT
TZOFFSETFROM:+0100
TZOFFSETTO:+0200
TZNAME:CEST
DTSTART:20250330T010000
END:DAYLIGHT
BEGIN:STANDARD
TZOFFSETFROM:+0200
TZOFFSETTO:+0100
TZNAME:CET
DTSTART:20251026T010000
END:STANDARD
BEGIN:DAYLIGHT
TZOFFSETFROM:+0100
TZOFFSETTO:+0200
TZNAME:CEST
DTSTART:20260329T010000
END:DAYLIGHT
BEGIN:STANDARD
TZOFFSETFROM:+0200
TZOFFSETTO:+0100
TZNAME:CET
DTSTART:20261025T010000
END:STANDARD
BEGIN:DAYLIGHT
TZOFFSETFROM:+0100
TZOFFSETTO:+0200
TZNAME:CEST
DTSTART:20270328T010000
END:DAYLIGHT
BEGIN:STANDARD
TZOFFSETFROM:+0200
TZOFFSETTO:+0100
TZNAME:CET
DTSTART:20271031T010000
END:STANDARD
END:VTIMEZONE
BEGIN:VEVENT
DTSTART;TZID=Europe/Berlin:20260424T140000
DTEND;TZID=Europe/Berlin:20260424T183000
DTSTAMP:20260422T133816
CREATED:20260421T173742Z
LAST-MODIFIED:20260421T173819Z
UID:832-1777039200-1777055400@dental-guilds.de
SUMMARY:Das Dental Event
DESCRIPTION:.. mit unseren Dozenten: \nStefan Liebezeit\nDipl. Sportlehrer mit dem Schwerpunkt Breiten- und Wettkampfsport.\n– Autor und Speaker\n– Longevity-Experte\n– Gründer fuel Health Concepts \nAnnemarie Stein\nDipl. Psychologin\, Ernährungsberaterin & Mikronährstofftherapeutin.\n– Master in Mikronährstofftherapie & Regulationsmedizin\n– Gründerin fuel Health Concepts \nProgramm\n14:00 – 14:20 Begrüßung und Eröffnung durch Claudia Jünger-Urbansky\, Peter Viehweg und Stefan Liebezeit\n14:20 – 15:00 VORTRAG Stefan Liebezeit :: Longevity Insights: Forschung\, Fakten\, Strategien\n15:10 – 15:50 VORTRAG Annemarie Stein :: Dem Körper fehlen keine Medikamente\, es fehlen Mikronährstoffe\n15:50 – 16:10 Kaffeepause mit Mikronährstoffberatung und Testmöglichkeit am Stand\n16:10 – 17:00 WORKSHOP Annemarie Stein :: Messen\, Machen\, Messen – die individualisierteMikronährstofftherapie\n17:10 – 17:50 WORKSHOP Stefan Liebezeit :: Artgerechte Bewegung – stark\, mobil und schmerzfrei durchs Leben.\n17:50 – 18:10 Fragerunde mit den Experten\n18:10 – 18:30 Verabschiedung und Mikronährstoffberatung und Testmöglichkeit am Stand \nKursort:\nEventgießerei Leipzig\nGießerstraße 12\n04229 Leipzig \nAnmeldung:\nin der Praxis oder per Mail: info@dentallabor-guentermann.de \nTeilnahmegebühr: 189\,- € pro Person inkl. MwSt. \n  \n  \nHinweis: Eine kostenfreie Stornierung ist bis 14 Tage vor der Veranstaltung möglich. Bei späteren Absagen oder Nichterscheinen wird die Teilnahmegebühr berechnet. Wir behalten uns das Recht vor\, die Veranstaltung bis 1 Tag vor Beginn zu stornieren. Im Fall einer Terminabsage durch uns\, erhalten Sie die bezahlte Gebühr zurück. Weitere Ansprüche bestehen nicht.
URL:https://dental-guilds.de/event/das-dental-event/
LOCATION:Dentallabor Güntermann GmbH (Leipzig)\, August-Bebel-Straße 9\, Leipzig\, 04275\, Germany
END:VEVENT
BEGIN:VEVENT
DTSTART;VALUE=DATE:20260506
DTEND;VALUE=DATE:20260507
DTSTAMP:20260422T133816
CREATED:20260421T180826Z
LAST-MODIFIED:20260421T181052Z
UID:838-1778025600-1778111999@dental-guilds.de
SUMMARY:Digitaler Modellguss - Basiskurs
DESCRIPTION:=> Achtung! Kurs bereits ausgebucht <=\nDer Basiskurs „Digitaler Modellguss für Einsteiger mit der Konstruktionssoftware 3Shape Dental System“ vermittelt die Grundlagen und Arbeitsschritte der digitalen Konstruktion von Modellgussgerüsten. \nDie Teilnehmer lernen\, analoge Ausgangsdaten digital zu verarbeiten und Modellgüsse mithilfe der Konstruktionssoftware systematisch zu planen\, zu designen und für die Fertigung vorzubereiten. \nZiel ist ein sicherer Umgang mit den relevanten Funktionen von 3Shape für eine effiziente und reproduzierbare digitale Modellgusskonstruktion.
URL:https://dental-guilds.de/event/digitaler-modellguss-basiskurs/
LOCATION:Bandulet Dental GmbH (Euerdorf)\, Hammelburger Str. 22\, Euerdorf\, 97717\, Germany
END:VEVENT
BEGIN:VEVENT
DTSTART;TZID=Europe/Berlin:20260506T160000
DTEND;TZID=Europe/Berlin:20260506T190000
DTSTAMP:20260422T133816
CREATED:20260420T175320Z
LAST-MODIFIED:20260420T175320Z
UID:813-1778083200-1778094000@dental-guilds.de
SUMMARY:Einsteiger-Kurs: Digital durchstarten – Souverän Scannen mit dem TRIOS 5/6 und Sirios X3! (Basic)
DESCRIPTION:Schluss mit Abformlöffel und Würgereiz!\nSteigen Sie stressfrei in die digitale Welt ein. In diesem Hands-on-Workshop verwandeln wir Berührungsängste in Scan-Routine. Erfahren Sie\, wie Sie den TRIOS 5/6 und Sirios X3 effizient in Ihren Praxisalltag integrieren und von Tag eins an präzise Ergebnisse liefern. \nReferent: ZTM Felix Bohne (Straumann GmbH) \nKursinhalte: \n\nHardware-Check: Setup\, Kalibrierung und Handhabung\nDie perfekte Scan-Strategie: Schritt-für-Schritt-Anleitung für den Ober- und Unterkiefer sowie die Bissregistrierung\nPatienten-Kommunikation: Nutzen Sie den Scanner als Beratungs-Tool (TRIOS Smile Design und Sirios X3 SmileCloud & Treatment Simulator)\nWorkflow-Management: Von der Patientenzuordnung bis zum Versenden an das Labor.\nHygiene & Pflege: Tipps für eine langlebige Hardware.\nIhr Benefit:\nNach diesem Tag scannen Sie eine Einzelkrone in unter\nzwei Minuten und wissen genau\, worauf es für ein\nfehlerfreies Modell ankommt.\n\nKurspreis:  € 29\,– (inkl. MwSt.) pro Person und Kurs (inkl. Verpflegung) \nZUR ANMELDUNG UND BEI FRAGEN WENDEN SIE SICH GERNE AN\nZTM Franziska Schütz\nE-Mail: berlin@ruppin-zahntechnik.de\nTel.: 030 / 923 732 66
URL:https://dental-guilds.de/event/einsteiger-kurs-digital-durchstarten-souveraen-scannen-mit-dem-trios-5-6-und-sirios-x3-basic/
LOCATION:Ruppin Zahntechnik Bethmann GmbH\, Betriebstätte Berlin\, Liebermannstr. 202\, 13088\, Germany
END:VEVENT
BEGIN:VEVENT
DTSTART;VALUE=DATE:20260507
DTEND;VALUE=DATE:20260508
DTSTAMP:20260422T133816
CREATED:20260421T181152Z
LAST-MODIFIED:20260421T181152Z
UID:843-1778112000-1778198399@dental-guilds.de
SUMMARY:Digitaler Modellguss – Basiskurs
DESCRIPTION:=> Achtung! Kurs bereits ausgebucht <=\nDer Basiskurs „Digitaler Modellguss für Einsteiger mit der Konstruktionssoftware 3Shape Dental System“ vermittelt die Grundlagen und Arbeitsschritte der digitalen Konstruktion von Modellgussgerüsten. \nDie Teilnehmer lernen\, analoge Ausgangsdaten digital zu verarbeiten und Modellgüsse mithilfe der Konstruktionssoftware systematisch zu planen\, zu designen und für die Fertigung vorzubereiten. \nZiel ist ein sicherer Umgang mit den relevanten Funktionen von 3Shape für eine effiziente und reproduzierbare digitale Modellgusskonstruktion.
URL:https://dental-guilds.de/event/digitaler-modellguss-basiskurs-2/
LOCATION:Bandulet Dental GmbH (Euerdorf)\, Hammelburger Str. 22\, Euerdorf\, 97717\, Germany
END:VEVENT
BEGIN:VEVENT
DTSTART;TZID=Europe/Berlin:20260509T093000
DTEND;TZID=Europe/Berlin:20260509T130000
DTSTAMP:20260422T133816
CREATED:20260419T135533Z
LAST-MODIFIED:20260421T165800Z
UID:766-1778319000-1778331600@dental-guilds.de
SUMMARY:BÜHLER DENTAL FORUM
DESCRIPTION:Wir möchten die Themen Alignerschiene und Schnarchtherapie aus Sicht der Zahnarztpraxis beleuchten.\nWelche Chancen\, welche Risiken bestehen\, und wie führt man beide Behandlungen sicher durch. \nFreuen Sie sich auf spannende Fachvorträge zu: \n\nSchnarchen – Therapie einer Volkskrankheit. Erkennen\, Handeln und Helfen.\nAligner – Möglichkeiten und Grenzen – Umsetzung in der Praxis\n\nFür das leibliche Wohl ist gesorgt. \nMelden Sie sich jetzt an per \n\nEmail: mundart@bandulet-dental.de\nTelefon: 07223 287 870 0\n\nWir feuen uns auf Sie! \n  \nAgenda: \n\n10:00 Uhr Begrüßung\n10:15 Uhr Dr. Emmerich Adda; Behandlung einer Volkskrankheit\, Möglichkeiten in der Zahnarztpraxis\n11:00 Uhr ZA Alexander Andreev; Einsatz und Anwendung von Alignerbehandlung\, praktische Umsetzung am Patienten\n12:30 Uhr Wrap Up / Ende der Veranstaltung
URL:https://dental-guilds.de/event/buehler-dental-forum/
LOCATION:Bandulet Dental GmbH\, Betriebsstätte Mundart\, Weinstraß 2a\, Bühl/Baden\, Baden-Würtemberg\, 77815\, Germany
END:VEVENT
BEGIN:VEVENT
DTSTART;TZID=Europe/Berlin:20260520T160000
DTEND;TZID=Europe/Berlin:20260520T190000
DTSTAMP:20260422T133816
CREATED:20260420T180022Z
LAST-MODIFIED:20260420T180022Z
UID:815-1779292800-1779303600@dental-guilds.de
SUMMARY:Profikurs: Mastering Digital Excellence – High-End Workflows mit TRIOS und Sirios X3 (Advanced)
DESCRIPTION:Maximale Präzision\, minimale Chairside-Zeit!\nSie beherrschen den Scan-Button\, aber wollen jetzt das volle Potenzial Ihres Systems ausschöpfen? In diesem Kurs verlassen wir die Standardpfade und tauchen tief in die komplexe Prothetik und Funktionsdiagnostik ein. \nReferent: ZTM Felix Bohne (Straumann GmbH) \nKursinhalte: \n\nDeep Dive Prothetik: Scan-Strategien für große Brückenspannen und festsitzende Totalprothetik\nImplantat-Workflows: Scanbodies perfekt erfassen und Emergenzprofile präzise übertragen\nFunktion in Echtzeit: Einsatz des TRIOS Patient Monitoring und Aufzeichnung der dynamischen Okklusion\nSchnittstellen-Management: Optimierte Zusammenarbeit mit dem Labor via 3Shape Communicate und AXS\nFehlermanagement: Troubleshooting bei schwierigen Lichtverhältnissen oder subgingivalen Präparationsgrenzen\n\nIhr Benefit:\nReduzieren Sie Ihre Einschleifzeiten auf nahezu Null und meistern Sie selbst komplexe Sanierungen rein digital.
URL:https://dental-guilds.de/event/profikurs-mastering-digital-excellence-high-end-workflows-mit-trios-und-sirios-x3-advanced/
LOCATION:Ruppin Zahntechnik Bethmann GmbH\, Betriebstätte Berlin\, Liebermannstr. 202\, 13088\, Germany
END:VEVENT
BEGIN:VEVENT
DTSTART;TZID=Europe/Berlin:20260624T160000
DTEND;TZID=Europe/Berlin:20260624T190000
DTSTAMP:20260422T133816
CREATED:20260420T164807Z
LAST-MODIFIED:20260420T174228Z
UID:806-1782316800-1782327600@dental-guilds.de
SUMMARY:Intraoralscanner im Vergleich – Handling\, Funktionen und Vorteile
DESCRIPTION:In unserem praxisorientierten Kurs lernen Sie\, den Einstieg in die Welt der Intraoralscanner sicher\, effizient und stressfrei zu meistern.\nIm Mittelpunkt steht der direkte Vergleich verschiedener Scansysteme – mit besonderem Fokus auf Handling\, Funktionen und die jeweiligen Vorteile im Praxisalltag. \nGemeinsam arbeiten Sie mit modernen Intraoralscannern wie dem TRIOS 5\, TRIOS 6\, Medit i900\, Shining3D Elite und dem DS Primescan. Dabei erleben Sie aus erster Hand die Unterschiede im Design\, in der Handhabung und in den Scanstrategien. Sie erfahren\, welches System sich für welche Anforderungen besonders eignet und worauf\nes bei der täglichen Anwendung wirklich ankommt. \nRobert Wöhe führt Sie praxisnah durch die Besonderheiten der einzelnen Geräte und zeigt Ihnen\, wie Sie die jeweiligen Funktionen optimal nutzen. Der Fokus liegt dabei auf einem sicheren\nHandling\, effizienten Workflows und der Erstellung präziser\, fehlerfreier Scans. Das junge und engagierte CAD/CAM Team der Ruppin Zahntechnik begleitet Sie durch den digitalen Workflow  und zeigt Ihnen die Zukunft der digitalen Abformung – sowie die vielfältigen Möglichkeiten\, die bereits heute mit nur einer einzigen digitalen Abformung realisierbar sind.\nFreuen Sie sich auf eine kompakte und interaktive Fortbildung mit hohem Praxisanteil\, wertvollen Tipps aus dem Alltag sowie ausreichend Raum für Fragen und Austausch. \nAgenda\nIntraoralscanner im Vergleich – Handling\, Funktionen und Vorteile \n16.00 Uhr Begrüßung\nRobert Wöhe (CAD/CAM Spezialist Niederlassungsleiter bei Anton Gerl GmbH in Dresden \nKURSINHALT: \n\nUmfassender Überblick über Funktionen\, Indikationen sowie deren synergetisches Zusammenspiel\nVorstellung verschiedener Geräte inklusive ihrer jeweiligen Unterschiede und Besonderheiten\nMöglichkeiten der Datenverarbeitung sowie relevante Schnittstellen im Überblick\nPraxisorientierte Hands-on-Session in zwei Gruppen an vier unterschiedlichen Scannern\nInteraktives\, offenes Austauschformat mit Raum für Fragen und Diskussionen\n\nTEILNEHMER: Die Teilnehmerzahl ist begrenzt. Bitte melden Sie sich rechtzeitig an. \nKURSPREIS: € 29\,– (inkl. MwSt.) pro Person (inkl. Verpflegung) \nZUR ANMELDUNG UND BEI FRAGEN WENDEN SIE SICH GERNE AN\nZTM Jennifer Mießner\nE-Mail: veranstaltung@ruppin-zahntechnik.de\nTel.: 03391 / 3502 600
URL:https://dental-guilds.de/event/intraoralscanner-im-vergleich-handling-funktionen-und-vorteile/
LOCATION:Ruppin Zahntechnik GmbH (Neuruppin)\, Valentin-Rose-Str. 7\, Neuruppin\, 16816\, Germany
END:VEVENT
BEGIN:VEVENT
DTSTART;VALUE=DATE:20260701
DTEND;VALUE=DATE:20260702
DTSTAMP:20260422T133816
CREATED:20260421T175659Z
LAST-MODIFIED:20260421T202034Z
UID:836-1782864000-1782950399@dental-guilds.de
SUMMARY:Kulzer Signum Verblendkunststoffkurs
DESCRIPTION:=> Achtung! Veranstaltung bereits ausgebucht <=\nSIGNUM und SIGNUM matrix Verblendtechnik mit Komposit\nKursinhalt:\n\n 	Schichtung von Frontzahnkronen in Paste oder Paste und Flow-Material\n 	Individuelle Schneideschichtung\, Lichtdynamik nach Matrix-Konzept\n 	Farbanpassung\, Korrektur\, nachträgliche Ergänzung\n 	Oberflächenstruktur und korrekte Politur\n 	hilfreiche Hinweise für effiziente\, schnelle Technik\n\nReferent: ZTM Kai Franke\, Technischer Berater Kulzer GmbH\n\nModellsituation: 2 Frontzahnkronen – Kursmodell wird gestellt (Gerüst / Modell aus Fertigungszentrum Schütz ZT)\n\nMitzubringen: persönliches Modellierwerkzeug für Kompositverarbeitung\n\n \n\nInfo:\n\nKulzer ist Erfinder von lichhärtendem Komposit und des Metall-Kunststoff-Haftverbundes .\n\nMit Signum steht ein bewährtes Komposit in 2 Konsistenzen zur Verfügung\, welches mit dem aus der HeraCeram Keramik bekannten Matrix-Konzept Lichtdynamik wie beim natürlichen Zahn erzeugen kann : Opaleszenz\, Fluoreszenz und Transparenz\n\nLernen Sie im Kurs das ganze Potenzial dieses Systems so zu nutzen\, daß Sie schnell und zielgerichtet zur gewünschten Zahnfarbe kommen
URL:https://dental-guilds.de/event/kulzer-signum-verblendkunststoffkurs/
LOCATION:Bandulet Dental GmbH (Euerdorf)\, Hammelburger Str. 22\, Euerdorf\, 97717\, Germany
END:VEVENT
END:VCALENDAR